BEGIN:VCALENDAR
VERSION:2.0
PRODID:-//NFXF - ECPv6.15.14//NONSGML v1.0//EN
CALSCALE:GREGORIAN
METHOD:PUBLISH
X-WR-CALNAME:NFXF
X-ORIGINAL-URL:https://fragilex.org
X-WR-CALDESC:Events for NFXF
REFRESH-INTERVAL;VALUE=DURATION:PT1H
X-Robots-Tag:noindex
X-PUBLISHED-TTL:PT1H
BEGIN:VTIMEZONE
TZID:America/New_York
BEGIN:DAYLIGHT
TZOFFSETFROM:-0500
TZOFFSETTO:-0400
TZNAME:EDT
DTSTART:20250309T070000
END:DAYLIGHT
BEGIN:STANDARD
TZOFFSETFROM:-0400
TZOFFSETTO:-0500
TZNAME:EST
DTSTART:20251102T060000
END:STANDARD
BEGIN:DAYLIGHT
TZOFFSETFROM:-0500
TZOFFSETTO:-0400
TZNAME:EDT
DTSTART:20260308T070000
END:DAYLIGHT
BEGIN:STANDARD
TZOFFSETFROM:-0400
TZOFFSETTO:-0500
TZNAME:EST
DTSTART:20261101T060000
END:STANDARD
BEGIN:DAYLIGHT
TZOFFSETFROM:-0500
TZOFFSETTO:-0400
TZNAME:EDT
DTSTART:20270314T070000
END:DAYLIGHT
BEGIN:STANDARD
TZOFFSETFROM:-0400
TZOFFSETTO:-0500
TZNAME:EST
DTSTART:20271107T060000
END:STANDARD
END:VTIMEZONE
BEGIN:VEVENT
DTSTART;TZID=America/New_York:20260418T140000
DTEND;TZID=America/New_York:20260418T150000
DTSTAMP:20260421T074550
CREATED:20260316T210352Z
LAST-MODIFIED:20260316T210352Z
UID:91589-1776520800-1776524400@fragilex.org
SUMMARY:SSAN April Zoom - Chit Chat with Dillon and Kelley
DESCRIPTION:Dillon and Kelley will introduce our “mystery” guest(s) from the Fragile X Community. We will reveal in April who the guest(s) are via Facebook. They will ask some fun questions. Our guest(s) will share some information then everyone will also have the chance to share. Our guest(s) will then close out our hour (before closing remarks) with a game of Would you Rather? \nPlease join our Facebook Page to get Zoom information or email sibselfrl@fragilex.org for details.
URL:https://fragilex.org/event/ssan-april-zoom-chit-chat-with-dillon-and-kelley/
LOCATION:Zoom
CATEGORIES:Online Only
ATTACH;FMTTYPE=image/png:https://fragilex.org/wp-content/uploads/2026/03/Screenshot-2026-03-16-at-2.00.32-PM.png
ORGANIZER;CN="Diane Southard":MAILTO:southard5@sbcglobal.net
END:VEVENT
END:VCALENDAR